BEGIN:VCALENDAR
VERSION:2.0
PRODID:-//eventon.com NONSGML v1.0//EN
CALSCALE:GREGORIAN
METHOD:PUBLISH
BEGIN:VEVENT
UID:69e88c8b47b72
DTSTAMP:20260422T085331Z
DTSTART:20251105T183000Z
DTEND:20251105T200000Z
LOCATION:
SUMMARY:SPEAKING: Plano Young Republicans
DESCRIPTION:Love &amp; War in Texas\nhttps://natesheets.com/events/speaking
 -plano-young-republicans/
URL:https://natesheets.com/events/speaking-plano-young-republicans/
END:VEVENT
END:VCALENDAR